BEGIN:VCALENDAR
PRODID:-//eluceo/ical//2.0/EN
VERSION:2.0
CALSCALE:GREGORIAN
BEGIN:VEVENT
UID:54866900cc4dd261ba4495405a76a892
DTSTAMP:20260425T121102Z
SUMMARY:Lífið er langhlaup - Hvernig höldum við dampi undir miklu álag
 i til langs tíma?
DESCRIPTION:
URL:https://rvkarbaer.rotary1360.is/en/agenda/show/2682
DTSTART;TZID=Iceland:20210325T181500
DTEND;TZID=Iceland:20210325T193000
LOCATION:Safnaðarheimili Árbæjarkirkju\nRofabæ 32\n110 Reykjavík\n
CATEGORIES:Rotary
END:VEVENT
BEGIN:VTIMEZONE
TZID:Iceland
BEGIN:STANDARD
DTSTART:20210325T181500
TZNAME:GMT
TZOFFSETTO:+0000
TZOFFSETFROM:+0000
END:STANDARD
END:VTIMEZONE
END:VCALENDAR
